BEGIN:VCALENDAR
VERSION:2.0
PRODID:-//jEvents 2.0 for Joomla//EN
CALSCALE:GREGORIAN
METHOD:PUBLISH
BEGIN:VEVENT
UID:4dc6fc5c8bb8cc9b935d67e01406aec2
CATEGORIES:in-coop
CREATED:20230221T095913
SUMMARY:Sigweb Conferences - 13th International Conference on Cloud Computing and Services Science
LOCATION:Prague\, Czech Republic
DESCRIPTION:<p>The International Conference on Cloud Computing and Services Science (CL
 OSER), focuses on the highly important area of Cloud Computing, inspired by
  some latest advances that concern the infrastructure, operations, and avai
 lable services through the global network. Further, the conference consider
 s as essential the link to Services Science, acknowledging the service-orie
 ntation in most current IT-driven collaborations. The conference is neverth
 eless not about the union of these two (already broad) fields, but about Cl
 oud Computing where we are also interested in how Services Science can prov
 ide theory, methods and techniques to design, analyze, manage, market and s
 tudy various aspects of Cloud Computing.</p>
CONTACT:https://closer.scitevents.org/Home.aspx
DTSTAMP:20260422T155315
DTSTART;TZID=UTC;VALUE=DATE:20230426
DTEND;TZID=UTC;VALUE=DATE:20230429
SEQUENCE:0
TRANSP:OPAQUE
END:VEVENT
END:VCALENDAR