BEGIN:VCALENDAR
VERSION:2.0
PRODID:-//jEvents 2.0 for Joomla//EN
CALSCALE:GREGORIAN
METHOD:PUBLISH
BEGIN:VEVENT
UID:01374a80c82d50905b648536417eb71a
CATEGORIES:in-coop
CREATED:20230221T101915
SUMMARY:Sigweb Conferences - 20th International Web for All Conference
LOCATION: Austin\, TX\, USA
DESCRIPTION:The 20th International Web for All Conference (W4A’23), the premier venue f
 or web accessibility research, will take place in Austin, Texas. W4A is co-
 located with the 32nd International World Wide Web Conference – TheWebConf’
 23 (https://www2023.thewebconf.org/). The conference focuses on all aspects
  of web accessibility. Areas of general interest include, but are not limit
 ed to the following: age, cognition, culture, education, emotions, dexterit
 y, disability, diversity, health, hearing, income, infrastructure, language
 , learning, literacy, mobility, neurodiversity, situation, society, and vis
 ion.\n
X-ALT-DESC;FMTTYPE=text/html:<p>The 20th International Web for All Conference (W4A’23), the premier venu
 e for web accessibility research, will take place in Austin, Texas. W4A is 
 co-located with the <a href="https://www2023.thewebconf.org/" target="_blan
 k" rel="noopener">32nd International World Wide Web Conference – TheWebConf
 ’23</a>. The conference focuses on all aspects of web accessibility. Areas 
 of general interest include, but are not limited to the following: age, cog
 nition, culture, education, emotions, dexterity, disability, diversity, hea
 lth, hearing, income, infrastructure, language, learning, literacy, mobilit
 y, neurodiversity, situation, society, and vision.</p>
CONTACT:https://www.w4a.info/2023/
DTSTAMP:20260425T031633
DTSTART;TZID=UTC;VALUE=DATE:20230430
DTEND;TZID=UTC;VALUE=DATE:20230502
SEQUENCE:0
TRANSP:OPAQUE
END:VEVENT
END:VCALENDAR