BEGIN:VCALENDAR
VERSION:2.0
PRODID:-//jEvents 2.0 for Joomla//EN
CALSCALE:GREGORIAN
METHOD:PUBLISH
BEGIN:VEVENT
UID:e094a813cdf8a21315edf8a420deab03
CATEGORIES:in-coop
CREATED:20231211T112026
SUMMARY:Sigweb Conferences - 17th International Conference on Advanced Visual Interfaces (AVI 2024)
LOCATION:Arenzano (Genoa)\, Italy
DESCRIPTION:<p class="zfr3Q CDt4Ke " dir="ltr" style="background-color: transparent; li
 ne-height: 1.656; margin-bottom: 0.0pt; margin-top: 0.0pt; text-align: just
 ify; border: none; padding: 0.0pt;"><span class="C9DxTc " style="color: #0e
 101a; font-size: 11.0pt; font-variant: normal; vertical-align: baseline;">S
 ince 1992, AVI has been a biennial appointment for a vast international com
 munity of experts with a broad range of backgrounds. Throughout three decad
 es, the Conference has attracted leading researchers of Human-Computer Inte
 raction (HCI) from all over the world, offering a forum to present and diss
 eminate new technological results, paradigms, and visions for HCI and user 
 interfaces. </span><span class="C9DxTc " style="color: #0e101a; font-size: 
 11.0pt; font-variant: normal; vertical-align: baseline;">Because of advance
 d technology and new possibilities for user interaction, AVI has broadened 
 the topics it covers, still keeping its primary focus on the conception, de
 sign, implementation, and evaluation of novel visual interfaces.</span></p>
 <p class="zfr3Q CDt4Ke " dir="ltr" style="background-color: transparent; li
 ne-height: 1.656; margin-bottom: 0.0pt; margin-top: 0.0pt; text-align: just
 ify; border: none; padding: 0.0pt;"><span class="C9DxTc " style="color: #0e
 101a; font-size: 11.0pt; font-variant: normal; vertical-align: baseline;">W
 hile rooted in Italy, AVI is an actual international conference concerning 
 the nationality of participants, authors of papers, and program committee m
 embers. The mixture of carefully selected research contributions paired wit
 h cordial Italian hospitality creates a unique conference atmosphere, which
  has made AVI an internationally recognized brand.</span></p><p class="zfr3
 Q CDt4Ke " dir="ltr" style="background-color: transparent; line-height: 1.6
 56; margin-bottom: 0.0pt; margin-top: 0.0pt; text-align: justify; border: n
 one; padding: 0.0pt;"><span class="C9DxTc " style="color: #0e101a; font-siz
 e: 11.0pt; font-variant: normal; vertical-align: baseline;">AVI 2024 is und
 er the patronage of University of Genoa, Department of Informatics, Bioengi
 neering, Robotics and Systems Engineering, Italy.</span></p>
CONTACT:https://avi2024.dibris.unige.it/
DTSTAMP:20260425T153020
DTSTART;TZID=UTC;VALUE=DATE:20240603
DTEND;TZID=UTC;VALUE=DATE:20240608
SEQUENCE:0
TRANSP:OPAQUE
END:VEVENT
END:VCALENDAR