BEGIN:VCALENDAR
VERSION:2.0
PRODID:-//jEvents 2.0 for Joomla//EN
CALSCALE:GREGORIAN
METHOD:PUBLISH
BEGIN:VEVENT
UID:3bce065c15981aa6fd6c9eb4a9699c82
CATEGORIES:Conference
CREATED:20231211T112624
SUMMARY:Sigweb Conferences - 24th ACM Symposium on Document Engineering (DocEng 2024)
LOCATION:San Jose\, CA\, USA
DESCRIPTION:The 24th ACM Symposium on Document Engineering seeks original research pape
 rs that focus on the design, implementation, development, management, use a
 nd evaluation of advanced systems where documents and document collections 
 play a key role. DocEng emphasizes innovative approaches to document engine
 ering technology, use of documents and document collections in real-world a
 pplications, and novel principles, tools and processes that improve our abi
 lity to create, manage, maintain, share, and productively use these.\nIn pa
 rticular, DocEng'24 seeks contributions in the area of cooperative work wit
 h documents.\n
X-ALT-DESC;FMTTYPE=text/html:<p>The 24th ACM Symposium on Document Engineering seeks original research p
 apers that focus on the design, implementation, development, management, us
 e and evaluation of advanced systems where documents and document collectio
 ns play a key role. DocEng emphasizes innovative approaches to document eng
 ineering technology, use of documents and document collections in real-worl
 d applications, and novel principles, tools and processes that improve our 
 ability to create, manage, maintain, share, and productively use these.</p>
 <p>In particular, DocEng'24 seeks contributions in the area of cooperative 
 work with documents.</p>
CONTACT:http://www.documentengineering.org/doceng2024 (http://www.documentengineering.org/doceng2024)
DTSTAMP:20260421T044001
DTSTART;TZID=UTC;VALUE=DATE:20240820
DTEND;TZID=UTC;VALUE=DATE:20240824
SEQUENCE:0
TRANSP:OPAQUE
END:VEVENT
END:VCALENDAR