BEGIN:VCALENDAR
VERSION:2.0
PRODID:-//jEvents 2.0 for Joomla//EN
CALSCALE:GREGORIAN
METHOD:PUBLISH
BEGIN:VEVENT
UID:32ca828fcfe696de48d8d3139849cc3f
CATEGORIES:Conference
CREATED:20240506T173950
SUMMARY:Sigweb Conferences - ACM TheWebConf 2025 (TheWebConf 2025)
LOCATION:Sydney\, Australia
DESCRIPTION:<p>Since the invention of the World Wide Web in 1989, The Web Conference (f
 ormerly known as the International World Wide Web Conference, abbreviated a
 s WWW) is a yearly international academic conference on the topic of the fu
 ture direction of the World Wide Web. This conference has been the premier 
 venue to present and discuss progress in research, development, standards, 
 and applications of the topics related to the Web. Over the past three deca
 des, The Web Conference has been the forum where some of the most fundament
 al Web technologies have been introduced, such as the Anatomy of a Large Sc
 ale Web Search Engine in 1998 prefiguring Google, the EigenTrust algorithm 
 in 2003, and the YAGO knowledge base in 2007 (see also the Test of Time Awa
 rd past recipients). The conference assembles scholars, researchers, policy
 makers, practitioners, and end-users with one unifying goal: to envision an
 d create the future of the Web.</p><p> </p><p style="margin: 0;"> </p>
CONTACT:https://www2025.thewebconf.org/
DTSTAMP:20260424T085613
DTSTART;TZID=UTC;VALUE=DATE:20250428
DTEND;TZID=UTC;VALUE=DATE:20250503
SEQUENCE:0
TRANSP:OPAQUE
END:VEVENT
END:VCALENDAR