BEGIN:VCALENDAR
VERSION:2.0
PRODID:-//jEvents 2.0 for Joomla//EN
CALSCALE:GREGORIAN
METHOD:PUBLISH
BEGIN:VEVENT
UID:3da2c497068642ff2a5871496738d7b2
CATEGORIES:in-coop
CREATED:20240722T105310
SUMMARY:Sigweb Conferences - WebMedia2024
LOCATION:Juiz de Fora\, Brazil
DESCRIPTION:<section class="elementor-section elementor-inner-section elementor-element
  elementor-element-145a74a elementor-section-boxed elementor-section-height
 -default elementor-section-height-default" data-id="145a74a" data-elementty
 pe="section"><div class="elementor-container elementor-column-gap-default">
 <div class="elementor-column elementor-col-100 elementor-inner-column eleme
 ntor-element elementor-element-29b6b68" data-id="29b6b68" data-elementtype=
 "column"><div class="elementor-widget-wrap elementor-element-populated"><di
 v class="elementor-element elementor-element-cc4262d elementor-widget__widt
 h-initial elementor-widget elementor-widget-text-editor" data-id="cc4262d" 
 data-elementtype="widget" data-widgettype="text-editor.default"><div class=
 "elementor-widget-container"><p class="gt-block">Held annually by<b> </b>Br
 azilian Computing Society (SBC), the Brazilian Symposium on Multimedia and 
 Web Systems (WebMedia)<b> </b>is the main event on the topic in Brazil and 
 an excellent opportunity for scientific and technical exchanges between stu
 dents, researchers and professionals in the areas of Multimedia, Hypermedia
  and the Web. </p><p>In 2024, especially, we will be celebrating the 30th e
 dition of WebMedia, organized by the Federal University of Juiz de Fora (UF
 JF).</p></div></div></div></div></div></section>
CONTACT:https://webmedia.org.br/en/2024/
DTSTAMP:20260421T085954
DTSTART;TZID=UTC;VALUE=DATE:20241014
DTEND;TZID=UTC;VALUE=DATE:20241019
SEQUENCE:0
TRANSP:OPAQUE
END:VEVENT
END:VCALENDAR